BEGIN:VCALENDAR
VERSION:2.0
PRODID:-//Tukios.com/
BEGIN:VEVENT
UID:b3a87e4a-7b4a-47ab-bed4-3f58d4fecb5b@www.cawleyandpeoples.com
DTSTAMP:20260420T222206Z
DTSTART:20260424T170000Z
DTEND:20260424T180000Z
SUMMARY:Graveside Service
DESCRIPTION:
URL:https://www.cawleyandpeoples.com/obituaries/jeffrey-hall
LOCATION:  Saint Marys Avenue  Marietta OH 45750
GEO:39.4319776;-81.4563059
END:VEVENT
END:VCALENDAR