BEGIN:VCALENDAR
VERSION:2.0
PRODID:-//Tukios.com/
BEGIN:VEVENT
UID:eecaf6bd-e746-48f9-9c49-fe59c754367a@www.cawleyandpeoples.com
DTSTAMP:20260420T232023Z
DTSTART:20260423T220000Z
DTEND:20260424T000000Z
SUMMARY:Visitation
DESCRIPTION:
URL:https://www.cawleyandpeoples.com/obituaries/paula-polito
LOCATION: 11 White Oak Wds Dr  Vincent OH 45784
GEO:39.3957955;-81.667964
END:VEVENT
END:VCALENDAR