BEGIN:VCALENDAR
VERSION:2.0
PRODID:-//Tukios.com/
BEGIN:VEVENT
UID:16d42c20-7357-438e-a6f4-c87722ee1ee1@www.cawleyandpeoples.com
DTSTAMP:20260420T232220Z
DTSTART:20260424T163000Z
DTEND:20260424T173000Z
SUMMARY:Burial
DESCRIPTION:
URL:https://www.cawleyandpeoples.com/obituaries/paula-polito
LOCATION:Polito Family Cemetery 11920 Betsworth Road  Valley Center CA 
	92082
GEO:33.2300965;-117.0758662
END:VEVENT
END:VCALENDAR