BEGIN:VCALENDAR
VERSION:2.0
PRODID:-//Tukios.com/
BEGIN:VEVENT
UID:52eba3c3-a90c-4b6e-ae2c-cd8fb47790c8@www.cawleyandpeoples.com
DTSTAMP:20260420T232235Z
DTSTART:20260424T150000Z
DTEND:20260424T160000Z
SUMMARY:Funeral Service
DESCRIPTION:
URL:https://www.cawleyandpeoples.com/obituaries/paula-polito
LOCATION:Lighthouse Baptist Church 8135 SR 339  Vincent OH 45784
GEO:39.3928765;-81.6695537
END:VEVENT
END:VCALENDAR