BEGIN:VCALENDAR
VERSION:2.0
PRODID:-//Tukios.com/
BEGIN:VEVENT
UID:1b40b2a4-56ff-405f-bec7-f010946d56b6@www.cawleyandpeoples.com
DTSTAMP:20260425T223044Z
DTSTART:20260430T140000Z
DTEND:20260430T160000Z
SUMMARY:Visitation
DESCRIPTION:
URL:https://www.cawleyandpeoples.com/obituaries/ronnie-johnson
LOCATION: 408 Front St  Marietta OH 45750
GEO:39.4172345;-81.4582906
END:VEVENT
END:VCALENDAR