BEGIN:VCALENDAR
VERSION:2.0
PRODID:-//Tukios.com/
BEGIN:VEVENT
UID:f5e4e977-98e6-41a1-9fee-6e0b83791005@www.cawleyandpeoples.com
DTSTAMP:20260425T222853Z
DTSTART:20260430T160000Z
DTEND:20260430T170000Z
SUMMARY:Funeral Service
DESCRIPTION:
URL:https://www.cawleyandpeoples.com/obituaries/ronnie-johnson
LOCATION: 408 Front St  Marietta OH 45750
GEO:39.4172345;-81.4582906
END:VEVENT
END:VCALENDAR