BEGIN:VCALENDAR
VERSION:2.0
PRODID:-//Tukios.com/
BEGIN:VEVENT
UID:073b9581-8850-4b2d-af66-d4a4bc1f8d75@www.cawleyandpeoples.com
DTSTAMP:20260425T222913Z
DTSTART:20260430T170000Z
DTEND:20260430T180000Z
SUMMARY:Graveside Service
DESCRIPTION:
URL:https://www.cawleyandpeoples.com/obituaries/ronnie-johnson
LOCATION: 232 Coffman Road  Marietta OH 45750
GEO:39.3963838;-81.5437015
END:VEVENT
END:VCALENDAR